BEGIN:VCALENDAR
VERSION:2.0
PRODID:-//Sabre//Sabre VObject 4.5.8//EN
CALSCALE:GREGORIAN
BEGIN:VEVENT
UID:sabre-vobject-9d12b2a5-0c81-4987-9d9e-9e0573945c53
DTSTAMP:20260421T211336Z
SUMMARY:Georgisches Kammerorchester Ingolstadt 2. ABO Open-Air Konzert
DESCRIPTION:https://demo.data-factory.net/georgisches-kammerorchester-ingol
 stadt-2-abo-open-air-konzert_id24878
DTSTART;TZID=Europe/Berlin:20240727T203000
DURATION:PT30M
LOCATION:Turm Baur\, Brückenkopf 14\, 85051 Ingolstadt
END:VEVENT
END:VCALENDAR
